BEGIN:VCALENDAR
VERSION:2.0
PRODID:-//Saint Mars de Coutais, Lac de Grand Lieu, entre Nantes et Pornic - ECPv6.15.20//NONSGML v1.0//EN
CALSCALE:GREGORIAN
METHOD:PUBLISH
X-ORIGINAL-URL:https://www.saintmarsdecoutais.fr
X-WR-CALDESC:Évènements pour Saint Mars de Coutais, Lac de Grand Lieu, entre Nantes et Pornic
REFRESH-INTERVAL;VALUE=DURATION:PT1H
X-Robots-Tag:noindex
X-PUBLISHED-TTL:PT1H
BEGIN:VTIMEZONE
TZID:Europe/Paris
BEGIN:DAYLIGHT
TZOFFSETFROM:+0100
TZOFFSETTO:+0200
TZNAME:CEST
DTSTART:20220327T010000
END:DAYLIGHT
BEGIN:STANDARD
TZOFFSETFROM:+0200
TZOFFSETTO:+0100
TZNAME:CET
DTSTART:20221030T010000
END:STANDARD
BEGIN:DAYLIGHT
TZOFFSETFROM:+0100
TZOFFSETTO:+0200
TZNAME:CEST
DTSTART:20230326T010000
END:DAYLIGHT
BEGIN:STANDARD
TZOFFSETFROM:+0200
TZOFFSETTO:+0100
TZNAME:CET
DTSTART:20231029T010000
END:STANDARD
BEGIN:DAYLIGHT
TZOFFSETFROM:+0100
TZOFFSETTO:+0200
TZNAME:CEST
DTSTART:20240331T010000
END:DAYLIGHT
BEGIN:STANDARD
TZOFFSETFROM:+0200
TZOFFSETTO:+0100
TZNAME:CET
DTSTART:20241027T010000
END:STANDARD
END:VTIMEZONE
BEGIN:VEVENT
DTSTART;TZID=Europe/Paris:20231206T100000
DTEND;TZID=Europe/Paris:20231206T140000
DTSTAMP:20260421T191717
CREATED:20231128T145838Z
LAST-MODIFIED:20231128T145838Z
UID:18776-1701856800-1701871200@www.saintmarsdecoutais.fr
SUMMARY:ATELIERS DECORATION DE NOEL
DESCRIPTION:Apportez vos réalisations ou venez les fabriquer sur place en apportant votre matériel
URL:https://www.saintmarsdecoutais.fr/evenement/ateliers-decoration-de-noel/
LOCATION:Salle La Saint Marine\, 12 Rue Saint-Médard\, Saint-Mars-de-Coutais\, 44680\, France
CATEGORIES:Animation,Information
ATTACH;FMTTYPE=image/png:https://www.saintmarsdecoutais.fr/wp-content/uploads/2023/11/affiche-recadree.png
END:VEVENT
BEGIN:VEVENT
DTSTART;TZID=Europe/Paris:20231209T150000
DTEND;TZID=Europe/Paris:20231209T170000
DTSTAMP:20260421T191717
CREATED:20231120T112858Z
LAST-MODIFIED:20231121T105408Z
UID:18742-1702134000-1702141200@www.saintmarsdecoutais.fr
SUMMARY:1 naissance = 1 arbre
DESCRIPTION:Plantation d’arbres le samedi 9 décembre à 15h au Parc des Versènes pour les enfants nés en 2023 dont les parents ont reçu une invitation \nPuis à 16 h 30 atelier échange sur les arbres et les haies \nTout public \nVenez nombreux assister à cette première édition
URL:https://www.saintmarsdecoutais.fr/evenement/1-naissance-1-arbre/
LOCATION:Parc des Versènes\, rue des chaponneries saint mars de coutais
CATEGORIES:Information
ATTACH;FMTTYPE=image/png:https://www.saintmarsdecoutais.fr/wp-content/uploads/2023/11/invitation-1.png
END:VEVENT
BEGIN:VEVENT
DTSTART;TZID=Europe/Paris:20231210T150000
DTEND;TZID=Europe/Paris:20231210T180000
DTSTAMP:20260421T191717
CREATED:20231128T145948Z
LAST-MODIFIED:20231128T145948Z
UID:18778-1702220400-1702231200@www.saintmarsdecoutais.fr
SUMMARY:ATELIERS DECORATION DE NOEL
DESCRIPTION:Apportez vos réalisations ou venez les fabriquer sur place en apportant votre matériel
URL:https://www.saintmarsdecoutais.fr/evenement/ateliers-decoration-de-noel-2/
LOCATION:Salle La Saint Marine\, 12 Rue Saint-Médard\, Saint-Mars-de-Coutais\, 44680\, France
CATEGORIES:Animation,Information
ATTACH;FMTTYPE=image/png:https://www.saintmarsdecoutais.fr/wp-content/uploads/2023/11/affiche-recadree.png
END:VEVENT
BEGIN:VEVENT
DTSTART;TZID=Europe/Paris:20231216T203000
DTEND;TZID=Europe/Paris:20231216T230000
DTSTAMP:20260421T191717
CREATED:20231108T092111Z
LAST-MODIFIED:20231108T092111Z
UID:18676-1702758600-1702767600@www.saintmarsdecoutais.fr
SUMMARY:Représentation théâtrale
DESCRIPTION:L’ALAC vous propose La Vie Burale d’après Hervé Blutsch et mise en scène par Jean-Marc Dubranna \nAu théâtre le 16 décembre à 20h30 \nEntrée à la chaussette \nInformation : alac.stmars@gmail.com
URL:https://www.saintmarsdecoutais.fr/evenement/representation-theatrale/
LOCATION:Le Théâtre\, Place de eglise\, 44680 Saint-Mars-de-Coutais\, France
CATEGORIES:Manifestation
ATTACH;FMTTYPE=image/jpeg:https://www.saintmarsdecoutais.fr/wp-content/uploads/2023/11/ALAC-theatre.jpg
END:VEVENT
END:VCALENDAR