BEGIN:VCALENDAR
VERSION:2.0
PRODID:-//Saint Mars de Coutais, Lac de Grand Lieu, entre Nantes et Pornic - ECPv6.15.20//NONSGML v1.0//EN
CALSCALE:GREGORIAN
METHOD:PUBLISH
X-WR-CALNAME:Saint Mars de Coutais, Lac de Grand Lieu, entre Nantes et Pornic
X-ORIGINAL-URL:https://www.saintmarsdecoutais.fr
X-WR-CALDESC:Évènements pour Saint Mars de Coutais, Lac de Grand Lieu, entre Nantes et Pornic
REFRESH-INTERVAL;VALUE=DURATION:PT1H
X-Robots-Tag:noindex
X-PUBLISHED-TTL:PT1H
BEGIN:VTIMEZONE
TZID:Europe/Paris
BEGIN:DAYLIGHT
TZOFFSETFROM:+0100
TZOFFSETTO:+0200
TZNAME:CEST
DTSTART:20230326T010000
END:DAYLIGHT
BEGIN:STANDARD
TZOFFSETFROM:+0200
TZOFFSETTO:+0100
TZNAME:CET
DTSTART:20231029T010000
END:STANDARD
BEGIN:DAYLIGHT
TZOFFSETFROM:+0100
TZOFFSETTO:+0200
TZNAME:CEST
DTSTART:20240331T010000
END:DAYLIGHT
BEGIN:STANDARD
TZOFFSETFROM:+0200
TZOFFSETTO:+0100
TZNAME:CET
DTSTART:20241027T010000
END:STANDARD
BEGIN:DAYLIGHT
TZOFFSETFROM:+0100
TZOFFSETTO:+0200
TZNAME:CEST
DTSTART:20250330T010000
END:DAYLIGHT
BEGIN:STANDARD
TZOFFSETFROM:+0200
TZOFFSETTO:+0100
TZNAME:CET
DTSTART:20251026T010000
END:STANDARD
END:VTIMEZONE
BEGIN:VEVENT
DTSTART;TZID=Europe/Paris:20240830T080000
DTEND;TZID=Europe/Paris:20240901T220000
DTSTAMP:20260422T064532
CREATED:20240814T140237Z
LAST-MODIFIED:20240814T140237Z
UID:19684-1725004800-1725228000@www.saintmarsdecoutais.fr
SUMMARY:FESTIVAL LE CHEMIN DES PAPILLONS
DESCRIPTION:
URL:https://www.saintmarsdecoutais.fr/evenement/festival-le-chemin-des-papillons/
LOCATION:Parc des Versènes\, rue des chaponneries saint mars de coutais
CATEGORIES:Animation
ATTACH;FMTTYPE=image/jpeg:https://www.saintmarsdecoutais.fr/wp-content/uploads/2024/08/Logo-Chemin-des-Papillons-1.jpg
END:VEVENT
BEGIN:VEVENT
DTSTART;TZID=Europe/Paris:20240908T080000
DTEND;TZID=Europe/Paris:20240908T170000
DTSTAMP:20260422T064532
CREATED:20240814T135942Z
LAST-MODIFIED:20240814T140032Z
UID:19682-1725782400-1725814800@www.saintmarsdecoutais.fr
SUMMARY:RANDONNEE PEDESTRE ET VELO
DESCRIPTION:
URL:https://www.saintmarsdecoutais.fr/evenement/randonnee-pedestre-et-velo/
LOCATION:Stade des Bergeries\, Rue du Grand Pré\, 44680 Saint-Mars-de-Coutais\, France\, Saint Mars de Coutais\, 44680\, France
CATEGORIES:Animation
ATTACH;FMTTYPE=image/jpeg:https://www.saintmarsdecoutais.fr/wp-content/uploads/2024/08/Image-randonnee.jpg
END:VEVENT
END:VCALENDAR