BEGIN:VCALENDAR
VERSION:2.0
PRODID:-//Saint Mars de Coutais, Lac de Grand Lieu, entre Nantes et Pornic - ECPv6.15.20//NONSGML v1.0//EN
CALSCALE:GREGORIAN
METHOD:PUBLISH
X-ORIGINAL-URL:https://www.saintmarsdecoutais.fr
X-WR-CALDESC:Évènements pour Saint Mars de Coutais, Lac de Grand Lieu, entre Nantes et Pornic
REFRESH-INTERVAL;VALUE=DURATION:PT1H
X-Robots-Tag:noindex
X-PUBLISHED-TTL:PT1H
BEGIN:VTIMEZONE
TZID:Europe/Paris
BEGIN:DAYLIGHT
TZOFFSETFROM:+0100
TZOFFSETTO:+0200
TZNAME:CEST
DTSTART:20220327T010000
END:DAYLIGHT
BEGIN:STANDARD
TZOFFSETFROM:+0200
TZOFFSETTO:+0100
TZNAME:CET
DTSTART:20221030T010000
END:STANDARD
BEGIN:DAYLIGHT
TZOFFSETFROM:+0100
TZOFFSETTO:+0200
TZNAME:CEST
DTSTART:20230326T010000
END:DAYLIGHT
BEGIN:STANDARD
TZOFFSETFROM:+0200
TZOFFSETTO:+0100
TZNAME:CET
DTSTART:20231029T010000
END:STANDARD
BEGIN:DAYLIGHT
TZOFFSETFROM:+0100
TZOFFSETTO:+0200
TZNAME:CEST
DTSTART:20240331T010000
END:DAYLIGHT
BEGIN:STANDARD
TZOFFSETFROM:+0200
TZOFFSETTO:+0100
TZNAME:CET
DTSTART:20241027T010000
END:STANDARD
END:VTIMEZONE
BEGIN:VEVENT
DTSTART;TZID=Europe/Paris:20231122T100000
DTEND;TZID=Europe/Paris:20231122T180000
DTSTAMP:20260424T221703
CREATED:20231107T150850Z
LAST-MODIFIED:20231107T151505Z
UID:18652-1700647200-1700676000@www.saintmarsdecoutais.fr
SUMMARY:A la découverte de la réalité virtuelle
DESCRIPTION:La bibliothèque municipale « AU FIL DES MOTS » vous invite à la découverte de la réalité virtuelle le mercredi 22 novembre 2023 \nde 10 h à 12 h pour les enfants de 5 à 8 ans accompagnés de leurs parents \net de 14 h à 18 h  pour les 8 à 90 ans  (4 séances de 1h)
URL:https://www.saintmarsdecoutais.fr/evenement/a-la-decouverte-de-la-realite-virtuelle/
LOCATION:Mairie\, 14 rue Saint Médard\, Saint Mars de Coutais\, 44680\, France
CATEGORIES:Animation
ATTACH;FMTTYPE=image/png:https://www.saintmarsdecoutais.fr/wp-content/uploads/2023/11/realite-virtuelle.png
END:VEVENT
BEGIN:VEVENT
DTSTART;TZID=Europe/Paris:20231125T100000
DTEND;TZID=Europe/Paris:20231125T120000
DTSTAMP:20260424T221703
CREATED:20231107T151425Z
LAST-MODIFIED:20231107T151425Z
UID:18659-1700906400-1700913600@www.saintmarsdecoutais.fr
SUMMARY:A la découverte de la réalité virtuelle
DESCRIPTION:La bibliothèque municipale « AU FIL DES MOTS » vous invite à la découverte de la réalité virtuelle le samedi 25 novembre 2023 \nde 10 h à 12 h  pour les 8 à 90 ans  (4 séances de 1h)
URL:https://www.saintmarsdecoutais.fr/evenement/a-la-decouverte-de-la-realite-virtuelle-2/
LOCATION:Mairie\, 14 rue Saint Médard\, Saint Mars de Coutais\, 44680\, France
CATEGORIES:Animation
ATTACH;FMTTYPE=image/png:https://www.saintmarsdecoutais.fr/wp-content/uploads/2023/11/realite-virtuelle-2.png
END:VEVENT
END:VCALENDAR